BEGIN:VCALENDAR
VERSION:2.0
PRODID:spatie/icalendar-generator
BEGIN:VTIMEZONE
TZID:UTC
BEGIN:STANDARD
DTSTART:20210521T190000
TZOFFSETFROM:+0000
TZOFFSETTO:+0000
END:STANDARD
END:VTIMEZONE
BEGIN:VEVENT
UID:af53e6e3-2c79-49d1-9947-1d4ce1a6a94b--0
DTSTAMP:20260411T050353Z
SUMMARY:Schone kunst zonder verticaliteit? Over digitale kunst en immersive
  experiences
LOCATION:Blandijn - auditorium 4 Jaap Kruithof
ORGANIZER;CN=Humanities Academie:MAILTO:humanitiesacademie@ugent.be
DTSTART:20220215T190000Z
DTEND:20220215T203000Z
END:VEVENT
END:VCALENDAR