BEGIN:VCALENDAR
VERSION:2.0
PRODID:spatie/icalendar-generator
BEGIN:VTIMEZONE
TZID:UTC
BEGIN:STANDARD
DTSTART:20210604T190000
TZOFFSETFROM:+0000
TZOFFSETTO:+0000
END:STANDARD
END:VTIMEZONE
BEGIN:VEVENT
UID:53008cbe-8e9d-4c0e-acf9-197cdfea3adf--0
DTSTAMP:20260415T191123Z
SUMMARY:Schoonheidsvariaties: het onvertaalbare coquette en de elegantie in
  de moderne tijd
LOCATION:Blandijn - auditorium 4 Jaap Kruithof
ORGANIZER;CN=Humanities Academie:MAILTO:humanitiesacademie@ugent.be
DTSTART:20220301T190000Z
DTEND:20220301T203000Z
END:VEVENT
END:VCALENDAR