BEGIN:VCALENDAR
VERSION:2.0
PRODID:spatie/icalendar-generator
BEGIN:VTIMEZONE
TZID:UTC
BEGIN:STANDARD
DTSTART:20210618T190000
TZOFFSETFROM:+0000
TZOFFSETTO:+0000
END:STANDARD
END:VTIMEZONE
BEGIN:VEVENT
UID:30607a6d-c3cf-47e3-adad-1231c2c55b7a--0
DTSTAMP:20260415T192118Z
SUMMARY:Wanneer schoonheid in de kunst een probleem is
LOCATION:Blandijn - auditorium 4 Jaap Kruithof
ORGANIZER;CN=Humanities Academie:MAILTO:humanitiesacademie@ugent.be
DTSTART:20220315T190000Z
DTEND:20220315T203000Z
END:VEVENT
END:VCALENDAR