BEGIN:VCALENDAR
VERSION:2.0
PRODID:spatie/icalendar-generator
BEGIN:VTIMEZONE
TZID:UTC
BEGIN:STANDARD
DTSTART:20210321T190000
TZOFFSETFROM:+0000
TZOFFSETTO:+0000
END:STANDARD
END:VTIMEZONE
BEGIN:VEVENT
UID:193a79f3-941d-49d2-b374-a7c8cdae1fc8--0
DTSTAMP:20260410T004244Z
SUMMARY:‘Translated word for word’? Re-examining the relationship betwe
 en Greek and Roman Republican tragedy
LOCATION:
ORGANIZER;CN=Humanities Academie:MAILTO:humanitiesacademie@ugent.be
DTSTART:20211216T190000Z
DTEND:20211216T200000Z
END:VEVENT
END:VCALENDAR