BEGIN:VCALENDAR
VERSION:2.0
PRODID:spatie/icalendar-generator
BEGIN:VTIMEZONE
TZID:UTC
BEGIN:STANDARD
DTSTART:20210607T190000
TZOFFSETFROM:+0000
TZOFFSETTO:+0000
END:STANDARD
END:VTIMEZONE
BEGIN:VEVENT
UID:72e5545a-61f0-48f6-a40c-5dc1bd8d36cf--0
DTSTAMP:20260409T100025Z
SUMMARY:Jean Paul Van Bendegem in gesprek met de vertalers van Wittgenstein
 s Tractatus
LOCATION:Bibliotheek De Krook - zaal De Blauwe Vogel
ORGANIZER;CN=Humanities Academie:MAILTO:humanitiesacademie@ugent.be
DTSTART:20220304T190000Z
DTEND:20220311T161500Z
END:VEVENT
END:VCALENDAR