BEGIN:VCALENDAR
VERSION:2.0
PRODID:spatie/icalendar-generator
BEGIN:VTIMEZONE
TZID:UTC
BEGIN:STANDARD
DTSTART:20211216T070000
TZOFFSETFROM:+0000
TZOFFSETTO:+0000
END:STANDARD
END:VTIMEZONE
BEGIN:VEVENT
UID:82a582c2-eef8-4e45-bd94-70b798f9c67b--0
DTSTAMP:20260409T234819Z
SUMMARY:Ukraine and the challenges of nationhood\, individuality and surviv
 al
LOCATION:De Krook
ORGANIZER;CN=Humanities Academie:MAILTO:humanitiesacademie@ugent.be
DTSTART:20220912T070000Z
DTEND:20220912T150000Z
END:VEVENT
BEGIN:VEVENT
UID:82a582c2-eef8-4e45-bd94-70b798f9c67b--1
DTSTAMP:20260409T234819Z
SUMMARY:Ukraine and the challenges of nationhood\, individuality and surviv
 al
LOCATION:De Krook
ORGANIZER;CN=Humanities Academie:MAILTO:humanitiesacademie@ugent.be
DTSTART:20220913T070000Z
DTEND:20220913T150000Z
END:VEVENT
BEGIN:VEVENT
UID:82a582c2-eef8-4e45-bd94-70b798f9c67b--2
DTSTAMP:20260409T234819Z
SUMMARY:Ukraine and the challenges of nationhood\, individuality and surviv
 al
LOCATION:De Krook
ORGANIZER;CN=Humanities Academie:MAILTO:humanitiesacademie@ugent.be
DTSTART:20220914T070000Z
DTEND:20220914T150000Z
END:VEVENT
BEGIN:VEVENT
UID:82a582c2-eef8-4e45-bd94-70b798f9c67b--3
DTSTAMP:20260409T234819Z
SUMMARY:Ukraine and the challenges of nationhood\, individuality and surviv
 al
LOCATION:De Krook
ORGANIZER;CN=Humanities Academie:MAILTO:humanitiesacademie@ugent.be
DTSTART:20220915T070000Z
DTEND:20220915T150000Z
END:VEVENT
BEGIN:VEVENT
UID:82a582c2-eef8-4e45-bd94-70b798f9c67b--4
DTSTAMP:20260409T234819Z
SUMMARY:Ukraine and the challenges of nationhood\, individuality and surviv
 al
LOCATION:De Krook
ORGANIZER;CN=Humanities Academie:MAILTO:humanitiesacademie@ugent.be
DTSTART:20220916T070000Z
DTEND:20220916T150000Z
END:VEVENT
END:VCALENDAR