BEGIN:VCALENDAR
VERSION:2.0
PRODID:spatie/icalendar-generator
BEGIN:VTIMEZONE
TZID:UTC
BEGIN:STANDARD
DTSTART:20231228T063000
TZOFFSETFROM:+0000
TZOFFSETTO:+0000
END:STANDARD
END:VTIMEZONE
BEGIN:VEVENT
UID:d7c4e89e-765d-475c-994e-907be56d9669--0
DTSTAMP:20260409T232314Z
SUMMARY:Literatuur en zorg (micro-credential)
LOCATION:Campus Boekentoren
ORGANIZER;CN=Humanities Academie:MAILTO:humanitiesacademie@ugent.be
DTSTART:20240923T063000Z
DTEND:20250922T091500Z
END:VEVENT
END:VCALENDAR