BEGIN:VCALENDAR
VERSION:2.0
PRODID:spatie/icalendar-generator
BEGIN:VTIMEZONE
TZID:UTC
BEGIN:STANDARD
DTSTART:20250715T111525
TZOFFSETFROM:+0000
TZOFFSETTO:+0000
END:STANDARD
END:VTIMEZONE
BEGIN:VEVENT
UID:c43de194-5d94-4d4d-9124-891d8450a850--0
DTSTAMP:20260411T111525Z
SUMMARY:Micro-credential Low Countries Studies
LOCATION:Blandijn - auditorium 3 Suzanne Lilar
ORGANIZER;CN=Humanities Academie:MAILTO:humanitiesacademie@ugent.be
DTSTART:20270208T163000Z
DTEND:20270515T173000Z
END:VEVENT
END:VCALENDAR