BEGIN:VCALENDAR
VERSION:2.0
PRODID:spatie/icalendar-generator
BEGIN:VTIMEZONE
TZID:UTC
BEGIN:STANDARD
DTSTART:20220604T190000
TZOFFSETFROM:+0000
TZOFFSETTO:+0000
END:STANDARD
END:VTIMEZONE
BEGIN:VEVENT
UID:1240812f-bb56-4c58-b017-49b214fda5b8--0
DTSTAMP:20260410T024549Z
SUMMARY:Zingen over zorgen
LOCATION:Bibliotheek De Krook - zaal De Blauwe Vogel
ORGANIZER;CN=Humanities Academie:MAILTO:humanitiesacademie@ugent.be
DTSTART:20230301T190000Z
DTEND:20230301T203000Z
END:VEVENT
END:VCALENDAR