BEGIN:VCALENDAR
VERSION:2.0
PRODID:spatie/icalendar-generator
BEGIN:VTIMEZONE
TZID:UTC
BEGIN:STANDARD
DTSTART:20220618T190000
TZOFFSETFROM:+0000
TZOFFSETTO:+0000
END:STANDARD
END:VTIMEZONE
BEGIN:VEVENT
UID:e2d6fb51-23e8-472b-b1d8-b889a394153f--0
DTSTAMP:20260410T024307Z
SUMMARY:Kwetsbaar (Samen) Lezen
LOCATION:Bibliotheek De Krook - zaal De Blauwe Vogel
ORGANIZER;CN=Humanities Academie:MAILTO:humanitiesacademie@ugent.be
DTSTART:20230315T190000Z
DTEND:20230315T203000Z
END:VEVENT
END:VCALENDAR