BEGIN:VCALENDAR
VERSION:2.0
PRODID:spatie/icalendar-generator
BEGIN:VTIMEZONE
TZID:UTC
BEGIN:STANDARD
DTSTART:20220702T180000
TZOFFSETFROM:+0000
TZOFFSETTO:+0000
END:STANDARD
END:VTIMEZONE
BEGIN:VEVENT
UID:a898326c-b59d-4f11-a1a3-b9dceaae7501--0
DTSTAMP:20260409T104845Z
SUMMARY:Lezen en schrijven achter de tralies
LOCATION:Bibliotheek De Krook - zaal De Blauwe Vogel
ORGANIZER;CN=Humanities Academie:MAILTO:humanitiesacademie@ugent.be
DTSTART:20230329T180000Z
DTEND:20230329T193000Z
END:VEVENT
END:VCALENDAR