BEGIN:VCALENDAR
VERSION:2.0
PRODID:spatie/icalendar-generator
BEGIN:VTIMEZONE
TZID:UTC
BEGIN:STANDARD
DTSTART:20220722T180000
TZOFFSETFROM:+0000
TZOFFSETTO:+0000
END:STANDARD
END:VTIMEZONE
BEGIN:VEVENT
UID:2dd6aee4-bda2-4dcd-a2f2-9f5276238eb3--0
DTSTAMP:20260410T024429Z
SUMMARY:Jong geweld: met woorden aan de toekomst bouwen
LOCATION:Bibliotheek De Krook - zaal De Blauwe Vogel
ORGANIZER;CN=Humanities Academie:MAILTO:humanitiesacademie@ugent.be
DTSTART:20230418T180000Z
DTEND:20230418T193000Z
END:VEVENT
END:VCALENDAR