BEGIN:VCALENDAR
VERSION:2.0
PRODID:spatie/icalendar-generator
BEGIN:VTIMEZONE
TZID:UTC
BEGIN:STANDARD
DTSTART:20220812T180000
TZOFFSETFROM:+0000
TZOFFSETTO:+0000
END:STANDARD
END:VTIMEZONE
BEGIN:VEVENT
UID:454edbfe-6524-409b-91db-d35c239a3e46--0
DTSTAMP:20260409T110025Z
SUMMARY:Stof en stilte: ouderen\, eenzaamheid en lezen
LOCATION:Bibliotheek De Krook - zaal De Blauwe Vogel
ORGANIZER;CN=Humanities Academie:MAILTO:humanitiesacademie@ugent.be
DTSTART:20230509T180000Z
DTEND:20230509T193000Z
END:VEVENT
END:VCALENDAR