BEGIN:VCALENDAR
VERSION:2.0
PRODID:spatie/icalendar-generator
BEGIN:VTIMEZONE
TZID:UTC
BEGIN:STANDARD
DTSTART:20220819T173000
TZOFFSETFROM:+0000
TZOFFSETTO:+0000
END:STANDARD
END:VTIMEZONE
BEGIN:VEVENT
UID:801f2d92-fbe9-4432-a45f-b9f18e8d3bfc--0
DTSTAMP:20260409T112946Z
SUMMARY:Child Adoption from Cold War Greece: Research and Activism 
LOCATION:Blandijn - auditorium 1 Jan Broeckx
ORGANIZER;CN=Humanities Academie:MAILTO:humanitiesacademie@ugent.be
DTSTART:20230516T173000Z
DTEND:20230516T203000Z
END:VEVENT
END:VCALENDAR