BEGIN:VCALENDAR
VERSION:2.0
PRODID:spatie/icalendar-generator
BEGIN:VTIMEZONE
TZID:UTC
BEGIN:STANDARD
DTSTART:20221229T063000
TZOFFSETFROM:+0000
TZOFFSETTO:+0000
END:STANDARD
END:VTIMEZONE
BEGIN:VEVENT
UID:074fc423-2f54-4d1a-ba7d-f22ba40f0e89--0
DTSTAMP:20260412T011959Z
SUMMARY:China in context (micro-credential)
LOCATION:Campus Boekentoren
ORGANIZER;CN=Humanities Academie:MAILTO:humanitiesacademie@ugent.be
DTSTART:20230925T063000Z
DTEND:20240923T170000Z
END:VEVENT
END:VCALENDAR