BEGIN:VCALENDAR
VERSION:2.0
PRODID:spatie/icalendar-generator
BEGIN:VTIMEZONE
TZID:UTC
BEGIN:STANDARD
DTSTART:20240615T094000
TZOFFSETFROM:+0000
TZOFFSETTO:+0000
END:STANDARD
END:VTIMEZONE
BEGIN:VEVENT
UID:3f7615a9-683f-493d-903e-3a332cb763de--0
DTSTAMP:20260409T113407Z
SUMMARY:Workshop 1 - VOORMIDDAG: Oorlog en herinnering op sociale media: Ka
 nsen en uitdagingen voor vredes- en herinneringseducatie
LOCATION:Rozier
ORGANIZER;CN=Humanities Academie:MAILTO:humanitiesacademie@ugent.be
DTSTART:20250312T094000Z
DTEND:20250312T110000Z
END:VEVENT
END:VCALENDAR