BEGIN:VCALENDAR
VERSION:2.0
PRODID:spatie/icalendar-generator
BEGIN:VTIMEZONE
TZID:UTC
BEGIN:STANDARD
DTSTART:20240615T094000
TZOFFSETFROM:+0000
TZOFFSETTO:+0000
END:STANDARD
END:VTIMEZONE
BEGIN:VEVENT
UID:d6d4ac77-a301-4fa8-928c-ec9fcee4730b--0
DTSTAMP:20260410T023423Z
SUMMARY:Workshop 2 - VOORMIDDAG: Conflicten in beeld en geluid.
LOCATION:Rozier
ORGANIZER;CN=Humanities Academie:MAILTO:humanitiesacademie@ugent.be
DTSTART:20250312T094000Z
DTEND:20250312T110000Z
END:VEVENT
END:VCALENDAR