BEGIN:VCALENDAR
VERSION:2.0
PRODID:spatie/icalendar-generator
BEGIN:VTIMEZONE
TZID:UTC
BEGIN:STANDARD
DTSTART:20240615T120000
TZOFFSETFROM:+0000
TZOFFSETTO:+0000
END:STANDARD
END:VTIMEZONE
BEGIN:VEVENT
UID:72c1984b-f048-41ad-9686-c69511db52d1--0
DTSTAMP:20260409T110647Z
SUMMARY:Workshop 1 - NAMIDDAG: Oorlog en herinnering op sociale media: Kans
 en en uitdagingen voor vredes- en herinneringseducatie
LOCATION:Rozier
ORGANIZER;CN=Humanities Academie:MAILTO:humanitiesacademie@ugent.be
DTSTART:20250312T120000Z
DTEND:20250312T132000Z
END:VEVENT
END:VCALENDAR