BEGIN:VCALENDAR
VERSION:2.0
PRODID:spatie/icalendar-generator
BEGIN:VTIMEZONE
TZID:UTC
BEGIN:STANDARD
DTSTART:20240615T120000
TZOFFSETFROM:+0000
TZOFFSETTO:+0000
END:STANDARD
END:VTIMEZONE
BEGIN:VEVENT
UID:a5e9f97b-9a18-4299-93ea-0852b100dffc--0
DTSTAMP:20260410T021819Z
SUMMARY:Workshop 2 - NAMIDDAG: Conflicten in beeld en geluid.
LOCATION:Rozier
ORGANIZER;CN=Humanities Academie:MAILTO:humanitiesacademie@ugent.be
DTSTART:20250312T120000Z
DTEND:20250312T132000Z
END:VEVENT
END:VCALENDAR