BEGIN:VCALENDAR
VERSION:2.0
PRODID:spatie/icalendar-generator
BEGIN:VTIMEZONE
TZID:UTC
BEGIN:STANDARD
DTSTART:20240615T094000
TZOFFSETFROM:+0000
TZOFFSETTO:+0000
END:STANDARD
END:VTIMEZONE
BEGIN:VEVENT
UID:47b65d88-6f22-4ec0-92ab-b60e8bb65efe--0
DTSTAMP:20260410T022946Z
SUMMARY:Workshop 3 - VOORMIDDAG: ‘De laatste Joodse zomer’\, interactie
 f werken met film in de klas.
LOCATION:Rozier
ORGANIZER;CN=Humanities Academie:MAILTO:humanitiesacademie@ugent.be
DTSTART:20250312T094000Z
DTEND:20250312T110000Z
END:VEVENT
END:VCALENDAR