BEGIN:VCALENDAR
VERSION:2.0
PRODID:spatie/icalendar-generator
BEGIN:VTIMEZONE
TZID:UTC
BEGIN:STANDARD
DTSTART:20240615T120000
TZOFFSETFROM:+0000
TZOFFSETTO:+0000
END:STANDARD
END:VTIMEZONE
BEGIN:VEVENT
UID:73cfa043-2c7c-48f1-8c09-41f7b820a727--0
DTSTAMP:20260410T021258Z
SUMMARY:Workshop 3 - NAMIDDAG: ‘De laatste Joodse zomer’\, interactief 
 werken met film in de klas.
LOCATION:Rozier
ORGANIZER;CN=Humanities Academie:MAILTO:humanitiesacademie@ugent.be
DTSTART:20250312T120000Z
DTEND:20250312T132000Z
END:VEVENT
END:VCALENDAR