BEGIN:VCALENDAR
VERSION:2.0
PRODID:spatie/icalendar-generator
BEGIN:VTIMEZONE
TZID:UTC
BEGIN:STANDARD
DTSTART:20240615T094059
TZOFFSETFROM:+0000
TZOFFSETTO:+0000
END:STANDARD
END:VTIMEZONE
BEGIN:VEVENT
UID:001a5a30-31f7-4432-99e7-0d9c07a8e4a7--0
DTSTAMP:20260410T021633Z
SUMMARY:Workshop 4 - VOORMIDDAG: The crucial role of art in creating spaces
  for dialogue.
LOCATION:Rozier
ORGANIZER;CN=Humanities Academie:MAILTO:humanitiesacademie@ugent.be
DTSTART:20250312T094059Z
DTEND:20250312T110000Z
END:VEVENT
END:VCALENDAR