BEGIN:VCALENDAR
VERSION:2.0
PRODID:spatie/icalendar-generator
BEGIN:VTIMEZONE
TZID:UTC
BEGIN:STANDARD
DTSTART:20240615T120000
TZOFFSETFROM:+0000
TZOFFSETTO:+0000
END:STANDARD
END:VTIMEZONE
BEGIN:VEVENT
UID:7259af80-e953-4749-b359-456141513f8f--0
DTSTAMP:20260410T022454Z
SUMMARY:Workshop 4 - NAMIDDAG: The crucial role of art in creating spaces f
 or dialogue.
LOCATION:Rozier
ORGANIZER;CN=Humanities Academie:MAILTO:humanitiesacademie@ugent.be
DTSTART:20250312T120000Z
DTEND:20250312T132000Z
END:VEVENT
END:VCALENDAR