BEGIN:VCALENDAR
VERSION:2.0
PRODID:spatie/icalendar-generator
BEGIN:VTIMEZONE
TZID:UTC
BEGIN:STANDARD
DTSTART:20240615T094000
TZOFFSETFROM:+0000
TZOFFSETTO:+0000
END:STANDARD
END:VTIMEZONE
BEGIN:VEVENT
UID:c181aa09-898a-4231-a49e-17a4316b54b0--0
DTSTAMP:20260409T113526Z
SUMMARY:Workshop 6 - VOORMIDDAG: Wat als jouw identiteit werd teruggebracht
  tot één enkel kenmerk?
LOCATION:Rozier
ORGANIZER;CN=Humanities Academie:MAILTO:humanitiesacademie@ugent.be
DTSTART:20250312T094000Z
DTEND:20250312T110000Z
END:VEVENT
END:VCALENDAR