BEGIN:VCALENDAR
VERSION:2.0
PRODID:spatie/icalendar-generator
BEGIN:VTIMEZONE
TZID:UTC
BEGIN:STANDARD
DTSTART:20240615T094000
TZOFFSETFROM:+0000
TZOFFSETTO:+0000
END:STANDARD
END:VTIMEZONE
BEGIN:VEVENT
UID:a151b548-c9b7-4f68-ae92-478f2632d4df--0
DTSTAMP:20260410T023249Z
SUMMARY:Workshop 7 - VOORMIDDAG: Filosoferen over oorlog en vrede.
LOCATION:Rozier
ORGANIZER;CN=Humanities Academie:MAILTO:humanitiesacademie@ugent.be
DTSTART:20250312T094000Z
DTEND:20250312T110000Z
END:VEVENT
END:VCALENDAR