BEGIN:VCALENDAR
VERSION:2.0
PRODID:spatie/icalendar-generator
BEGIN:VTIMEZONE
TZID:UTC
BEGIN:STANDARD
DTSTART:20240615T120000
TZOFFSETFROM:+0000
TZOFFSETTO:+0000
END:STANDARD
END:VTIMEZONE
BEGIN:VEVENT
UID:1f0de5c0-ceb4-4386-bf85-260022bd7c04--0
DTSTAMP:20260409T113726Z
SUMMARY:Workshop 7 - NAMIDDAG: Filosoferen over oorlog en vrede.
LOCATION:Rozier
ORGANIZER;CN=Humanities Academie:MAILTO:humanitiesacademie@ugent.be
DTSTART:20250312T120000Z
DTEND:20250312T132000Z
END:VEVENT
END:VCALENDAR