BEGIN:VCALENDAR
VERSION:2.0
PRODID:spatie/icalendar-generator
BEGIN:VTIMEZONE
TZID:UTC
BEGIN:STANDARD
DTSTART:20210918T180000
TZOFFSETFROM:+0000
TZOFFSETTO:+0000
END:STANDARD
END:VTIMEZONE
BEGIN:VEVENT
UID:040168f6-81d5-43ec-98dc-e27f3b1a0b1d--0
DTSTAMP:20260410T004056Z
SUMMARY:De tragedie ‘Erofili’ van Yeoryos Chortatsis (± 1600): een blo
 edig hoogtepunt van het Kretenzische renaissancetheater
LOCATION:Blandijn - auditorium 1 Jan Broeckx
ORGANIZER;CN=Humanities Academie:MAILTO:humanitiesacademie@ugent.be
DTSTART:20220615T180000Z
DTEND:20220615T193000Z
END:VEVENT
END:VCALENDAR