BEGIN:VCALENDAR
VERSION:2.0
PRODID:spatie/icalendar-generator
BEGIN:VTIMEZONE
TZID:UTC
BEGIN:STANDARD
DTSTART:20210724T180000
TZOFFSETFROM:+0000
TZOFFSETTO:+0000
END:STANDARD
END:VTIMEZONE
BEGIN:VEVENT
UID:7c7cec7c-303a-4f48-a0c5-90c778f37f08--0
DTSTAMP:20260410T004739Z
SUMMARY:Niet applaudisseren\, alstublieft. Over theatervrees en performance
  in de Byzantijnse periode
LOCATION:Blandijn - auditorium 1 Jan Broeckx
ORGANIZER;CN=Humanities Academie:MAILTO:humanitiesacademie@ugent.be
DTSTART:20220420T180000Z
DTEND:20220420T193000Z
END:VEVENT
END:VCALENDAR