BEGIN:VCALENDAR
VERSION:2.0
PRODID:spatie/icalendar-generator
BEGIN:VTIMEZONE
TZID:UTC
BEGIN:STANDARD
DTSTART:20210220T190000
TZOFFSETFROM:+0000
TZOFFSETTO:+0000
END:STANDARD
END:VTIMEZONE
BEGIN:VEVENT
UID:a8218661-b727-4fa3-9538-8d44034f0431--0
DTSTAMP:20260410T003924Z
SUMMARY:! GEANNULEERD ! (On)eigen(tijdse) beschouwingen over Griekse traged
 ies
LOCATION:Theaterzaal Dienstencentrum Ledeberg
ORGANIZER;CN=Humanities Academie:MAILTO:humanitiesacademie@ugent.be
DTSTART:20211117T190000Z
DTEND:20211117T203000Z
END:VEVENT
END:VCALENDAR