BEGIN:VCALENDAR
VERSION:2.0
PRODID:spatie/icalendar-generator
BEGIN:VTIMEZONE
TZID:UTC
BEGIN:STANDARD
DTSTART:20210626T190000
TZOFFSETFROM:+0000
TZOFFSETTO:+0000
END:STANDARD
END:VTIMEZONE
BEGIN:VEVENT
UID:23912745-5c5e-48d2-a381-e27b67fd4acc--0
DTSTAMP:20260410T004614Z
SUMMARY:Het theater van Thorikos (Zuidoost-Attika): meer dan een koilon\, o
 rchestra en 35 scherven
LOCATION:Blandijn - auditorium 1 Jan Broeckx
ORGANIZER;CN=Humanities Academie:MAILTO:humanitiesacademie@ugent.be
DTSTART:20220323T190000Z
DTEND:20220323T203000Z
END:VEVENT
END:VCALENDAR