BEGIN:VCALENDAR
VERSION:2.0
PRODID:spatie/icalendar-generator
BEGIN:VTIMEZONE
TZID:UTC
BEGIN:STANDARD
DTSTART:20210821T180000
TZOFFSETFROM:+0000
TZOFFSETTO:+0000
END:STANDARD
END:VTIMEZONE
BEGIN:VEVENT
UID:4a4e0ba9-5b52-4ca1-a30a-fc53be2f2198--0
DTSTAMP:20260410T004443Z
SUMMARY:Over activisme\, fictie en zwarte gaten. Milo Rau en zijn ‘Trilog
 ie van oude mythen’
LOCATION:Blandijn - auditorium 1 Jan Broeckx
ORGANIZER;CN=Humanities Academie:MAILTO:humanitiesacademie@ugent.be
DTSTART:20220518T180000Z
DTEND:20220518T193000Z
END:VEVENT
END:VCALENDAR