BEGIN:VCALENDAR
VERSION:2.0
PRODID:spatie/icalendar-generator
BEGIN:VTIMEZONE
TZID:UTC
BEGIN:STANDARD
DTSTART:20210117T174500
TZOFFSETFROM:+0000
TZOFFSETTO:+0000
END:STANDARD
END:VTIMEZONE
BEGIN:VEVENT
UID:99bfc8e2-3e9d-4204-8325-01657f09ab76--0
DTSTAMP:20260410T003756Z
SUMMARY:Griekenlandcentrum gaat naar Film Fest Gent: The Travelling Players
  &amp; Landscape in the Mist
LOCATION:Studio Skoop
ORGANIZER;CN=Humanities Academie:MAILTO:humanitiesacademie@ugent.be
DTSTART:20211014T174500Z
DTEND:20211014T214500Z
END:VEVENT
BEGIN:VEVENT
UID:99bfc8e2-3e9d-4204-8325-01657f09ab76--1
DTSTAMP:20260410T003756Z
SUMMARY:Griekenlandcentrum gaat naar Film Fest Gent: The Travelling Players
  &amp; Landscape in the Mist
LOCATION:Studio Skoop
ORGANIZER;CN=Humanities Academie:MAILTO:humanitiesacademie@ugent.be
DTSTART:20211021T164500Z
DTEND:20211021T193000Z
END:VEVENT
END:VCALENDAR