BEGIN:VCALENDAR
VERSION:2.0
PRODID:spatie/icalendar-generator
BEGIN:VTIMEZONE
TZID:UTC
BEGIN:STANDARD
DTSTART:20210522T190000
TZOFFSETFROM:+0000
TZOFFSETTO:+0000
END:STANDARD
END:VTIMEZONE
BEGIN:VEVENT
UID:db286d48-7ba1-425d-9821-3efca6401dfe--0
DTSTAMP:20260410T003529Z
SUMMARY:Khadija El Kharraz Alami\, 'Nu ben ik Medea': theatervoorstelling &amp;
  interview
LOCATION:NTGent (Schouwburg)
ORGANIZER;CN=Humanities Academie:MAILTO:humanitiesacademie@ugent.be
DTSTART:20220216T190000Z
DTEND:20220216T210000Z
END:VEVENT
END:VCALENDAR