BEGIN:VCALENDAR
VERSION:2.0
PRODID:spatie/icalendar-generator
BEGIN:VTIMEZONE
TZID:UTC
BEGIN:STANDARD
DTSTART:20210124T070000
TZOFFSETFROM:+0000
TZOFFSETTO:+0000
END:STANDARD
END:VTIMEZONE
BEGIN:VEVENT
UID:f5d82425-f1e4-4742-afee-65dcda353846--0
DTSTAMP:20260409T113006Z
SUMMARY:Hertmans in Vertaling
LOCATION:KANTL
ORGANIZER;CN=Humanities Academie:MAILTO:humanitiesacademie@ugent.be
DTSTART:20211021T070000Z
DTEND:20211021T160000Z
END:VEVENT
END:VCALENDAR